BEGIN:VCALENDAR
VERSION:2.0
PRODID:Events Booking
BEGIN:VEVENT
UID:69e9350303a50
SUMMARY:25/50 - Pist Libre - Série 56
DESCRIPTION:
LOCATION:Route de Chalautre-la-Petite
DTSTART:20260510T081500Z
DTEND:20260510T101500Z
DTSTAMP:20260422T225219Z
ORGANIZER;CN=Olivier MOLIN\, CTD 77:MAILTO:reservations.cdtir77@gmail.com
GEO:48.546551;3.299264
X-APPLE-STRUCTURED-LOCATION;VALUE=URI;X-ADDRESS=Route de Chalautre-la-Petit
 e;X-APPLE-RADIUS=72;X-TITLE=Stand de Provins APTC:48.546551;3.299264
END:VEVENT
END:VCALENDAR